BEGIN:VCALENDAR
VERSION:2.0
PRODID:-//reTURN the Favor - ECPv6.15.20//NONSGML v1.0//EN
CALSCALE:GREGORIAN
METHOD:PUBLISH
X-WR-CALNAME:reTURN the Favor
X-ORIGINAL-URL:https://returnthefavornj.org
X-WR-CALDESC:Events for reTURN the Favor
REFRESH-INTERVAL;VALUE=DURATION:PT1H
X-Robots-Tag:noindex
X-PUBLISHED-TTL:PT1H
BEGIN:VTIMEZONE
TZID:America/New_York
BEGIN:DAYLIGHT
TZOFFSETFROM:-0500
TZOFFSETTO:-0400
TZNAME:EDT
DTSTART:20250309T070000
END:DAYLIGHT
BEGIN:STANDARD
TZOFFSETFROM:-0400
TZOFFSETTO:-0500
TZNAME:EST
DTSTART:20251102T060000
END:STANDARD
BEGIN:DAYLIGHT
TZOFFSETFROM:-0500
TZOFFSETTO:-0400
TZNAME:EDT
DTSTART:20260308T070000
END:DAYLIGHT
BEGIN:STANDARD
TZOFFSETFROM:-0400
TZOFFSETTO:-0500
TZNAME:EST
DTSTART:20261101T060000
END:STANDARD
BEGIN:DAYLIGHT
TZOFFSETFROM:-0500
TZOFFSETTO:-0400
TZNAME:EDT
DTSTART:20270314T070000
END:DAYLIGHT
BEGIN:STANDARD
TZOFFSETFROM:-0400
TZOFFSETTO:-0500
TZNAME:EST
DTSTART:20271107T060000
END:STANDARD
END:VTIMEZONE
BEGIN:VEVENT
DTSTART;TZID=America/New_York:20260507T193000
DTEND;TZID=America/New_York:20260507T213000
DTSTAMP:20260423T092225
CREATED:20260408T165335Z
LAST-MODIFIED:20260408T165816Z
UID:3464-1778182200-1778189400@returnthefavornj.org
SUMMARY:RTF Public Walk - Reeds Beach North
DESCRIPTION:Join us for a reTURN the Favor walk organized by The Wetlands Institute to learn more about horseshoe crabs and help rescue stranded horseshoe crabs. This event is great for all ages.  Be sure to wear shoes that can get wet\, and be prepared for the conditions\, including insect repellent\, sun protection or headlamp. \nDetails: Thursday\, May 7 from 7:30 PM to 9:30 PM    Contact: Meghan Kolk\, mkolk@wetlandsinstitute.org \nRegister at this link: RTF Public Walk Registration \nMeet at the north end of North Beach Drive\, Cape May Court House\, NJ (Reeds Beach Jetty) \n  \n  \n 
URL:https://returnthefavornj.org/event/reeds-beach-north-public-walk-7/
LOCATION:Reeds Beach North\, 300 N Beach Dr\, Cape May Court House\, NJ\, 08210\, United States
END:VEVENT
BEGIN:VEVENT
DTSTART;TZID=America/New_York:20260510T200000
DTEND;TZID=America/New_York:20260510T213000
DTSTAMP:20260423T092225
CREATED:20260408T182615Z
LAST-MODIFIED:20260408T183004Z
UID:3480-1778443200-1778448600@returnthefavornj.org
SUMMARY:RTF Public Walk - Pierces Point Beach
DESCRIPTION:Join us for a reTURN the Favor walk organized by Conserve Wildlife Foundation of New Jersey to learn more about horseshoe crabs and help rescue stranded horseshoe crabs. This event is great for all ages.  Be sure to wear shoes that can get wet (knee boots or water shoes recommended)\, and be prepared for the conditions\, including insect repellent and flashlight/headlamp. \nDetails: Sunday\, May 10\, 8:00 PM to 9:30 PM \nRSVP with the number in your group to Larissa Smith: larissa.smith@conservewildlifenj.org \nMeet at the north end of Pierces Point Road\, Cape May Court House\, NJ.
URL:https://returnthefavornj.org/event/public-walk-pierces-point-beach-3-copy/
LOCATION:Pierces Point Road\, 199-117 Beach Ave\, Cape May Court House\, 08210\, United States
END:VEVENT
BEGIN:VEVENT
DTSTART;TZID=America/New_York:20260512T200000
DTEND;TZID=America/New_York:20260512T220000
DTSTAMP:20260423T092225
CREATED:20260408T165840Z
LAST-MODIFIED:20260408T170141Z
UID:3466-1778616000-1778623200@returnthefavornj.org
SUMMARY:RTF Public Walk - Reeds Beach North
DESCRIPTION:Join us for a reTURN the Favor walk organized by The Wetlands Institute to learn more about horseshoe crabs and help rescue stranded horseshoe crabs. This event is great for all ages.  Be sure to wear shoes that can get wet\, and be prepared for the conditions\, including insect repellent\, sun protection or headlamp. \nDetails: Tuesday\, May 12 from 8:00 PM to 10:00 PM    Contact: Meghan Kolk\, mkolk@wetlandsinstitute.org \nRegister at this link: RTF Public Walk Registration \nMeet at the north end of North Beach Drive\, Cape May Court House\, NJ (Reeds Beach Jetty) \n  \n  \n 
URL:https://returnthefavornj.org/event/reeds-beach-north-public-walk-7-copy/
LOCATION:Reeds Beach North\, 300 N Beach Dr\, Cape May Court House\, NJ\, 08210\, United States
END:VEVENT
BEGIN:VEVENT
DTSTART;TZID=America/New_York:20260523T193000
DTEND;TZID=America/New_York:20260523T220000
DTSTAMP:20260423T092225
CREATED:20260408T170545Z
LAST-MODIFIED:20260408T171027Z
UID:3472-1779564600-1779573600@returnthefavornj.org
SUMMARY:RTF Public Walk - Reeds Beach
DESCRIPTION:Join us for a reTURN the Favor walk organized by the Horseshoe Crab Recovery Coalition to learn more about horseshoe crabs and help rescue stranded horseshoe crabs. This event is great for all ages.  Be sure to wear shoes that can get wet\, and be prepared for the conditions\, including insect repellent and headlamps. Contact info: Susan Linder 571-435-5865 \nDetails: Saturday\, May 23 from 7:30 PM to 10:00 PM   \nRegister by May 21 by emailing info@hscrabrecovery.org \nMeet at the north end of North Beach Drive\, Cape May Court House\, NJ (Reeds Beach Jetty) \n  \n  \n  \n 
URL:https://returnthefavornj.org/event/reeds-beach-north-public-walk-3-copy/
LOCATION:Reeds Beach North\, 300 N Beach Dr\, Cape May Court House\, NJ\, 08210\, United States
END:VEVENT
BEGIN:VEVENT
DTSTART;TZID=America/New_York:20260523T200000
DTEND;TZID=America/New_York:20260523T213000
DTSTAMP:20260423T092225
CREATED:20260408T183129Z
LAST-MODIFIED:20260408T183247Z
UID:3482-1779566400-1779571800@returnthefavornj.org
SUMMARY:RTF Public Walk - Pierces Point Beach
DESCRIPTION:Join us for a reTURN the Favor walk organized by Conserve Wildlife Foundation of New Jersey to learn more about horseshoe crabs and help rescue stranded horseshoe crabs. This event is great for all ages.  Be sure to wear shoes that can get wet (knee boots or water shoes recommended)\, and be prepared for the conditions\, including insect repellent and flashlight/headlamp. \nDetails: Saturday\, May 23 from 8:00 PM to 9:30 PM \nRSVP with the number in your group to Larissa Smith: larissa.smith@conservewildlifenj.org \nMeet at the north end of Pierces Point Road\, Cape May Court House\, NJ.
URL:https://returnthefavornj.org/event/public-walk-pierces-point-beach-3-copy-copy/
LOCATION:Pierces Point Road\, 199-117 Beach Ave\, Cape May Court House\, 08210\, United States
END:VEVENT
BEGIN:VEVENT
DTSTART;TZID=America/New_York:20260523T200000
DTEND;TZID=America/New_York:20260523T213000
DTSTAMP:20260423T092225
CREATED:20260408T201501Z
LAST-MODIFIED:20260408T201917Z
UID:3495-1779566400-1779571800@returnthefavornj.org
SUMMARY:RTF Public Walk - Cooks Beach
DESCRIPTION:Join us for a reTURN the Favor walk organized by New Jersey Audubon to learn more about horseshoe crabs and help rescue stranded horseshoe crabs. This event is great for all ages.  Be sure to wear shoes that can get wet\, and be prepared for the conditions\, including insect repellent flashlight/headlamp. \nDetails: Saturday May 23 from 8:00 PM to 9:30 PM \nPre-register for this free event through the link: reTURN the Favor Public Walk: Cooks Beach | New Jersey Audubon  \nMeet at Cooks Beach located at the end of Cooks Beach Road in Middle Township\, NJ. \n  \n 
URL:https://returnthefavornj.org/event/public-walk-villas-beach-copy-copy-copy-copy-copy-copy-copy-copy-copy/
END:VEVENT
BEGIN:VEVENT
DTSTART;TZID=America/New_York:20260526T093000
DTEND;TZID=America/New_York:20260526T110000
DTSTAMP:20260423T092225
CREATED:20260408T183829Z
LAST-MODIFIED:20260408T203039Z
UID:3487-1779787800-1779793200@returnthefavornj.org
SUMMARY:RTF Public Walk - East Point Lighthouse
DESCRIPTION:Join us for a walk organized by CU Maurice River to learn more about horseshoe crabs and help rescue stranded horseshoe crabs. This event is great for all ages.  Be sure to wear shoes that can get wet and bring bug and sun protection. \nDetails: Tuesday\, May 26 9:30 AM to 11:00 AM \nRegister at this link: https://lp.constantcontactpages.com/ev/reg/me75hbq \nPark in the lot to the left of East Point Lighthouse in Heislerville\, NJ
URL:https://returnthefavornj.org/event/public-walk-east-point-lighthouse-6-copy/
LOCATION:East Point Lighthouse\, 10 Lighthouse Rd\, Heislerville\, NJ\, 08324
END:VEVENT
BEGIN:VEVENT
DTSTART;TZID=America/New_York:20260529T143000
DTEND;TZID=America/New_York:20260529T160000
DTSTAMP:20260423T092225
CREATED:20260408T181349Z
LAST-MODIFIED:20260408T201952Z
UID:3474-1780065000-1780070400@returnthefavornj.org
SUMMARY:RTF Public Walk - Cape May Harbor
DESCRIPTION:Join us for a reTURN the Favor walk organized by New Jersey Audubon to learn more about horseshoe crabs and help rescue stranded horseshoe crabs. This event is great for all ages.  Be sure to wear shoes that can get wet\, and be prepared for the conditions\, including insect repellent and sunscreen. \nDetails: Friday\, May 29 from 2:30 pm to 4:00 pm \nPre-register for this event here: reTURN the Favor Public Walk: Cape May Harbor | New Jersey Audubon \nMeet at the Nature Center of Cape May located at 1600 Delaware Ave in Cape May NJ. \n  \n 
URL:https://returnthefavornj.org/event/public-walk-cape-may-harbor-2-copy/
END:VEVENT
BEGIN:VEVENT
DTSTART;TZID=America/New_York:20260531T040000
DTEND;TZID=America/New_York:20260531T053000
DTSTAMP:20260423T092225
CREATED:20260408T183326Z
LAST-MODIFIED:20260408T183807Z
UID:3484-1780200000-1780205400@returnthefavornj.org
SUMMARY:RTF Public Walk - Pierces Point Beach
DESCRIPTION:Join us for a reTURN the Favor walk organized by Conserve Wildlife Foundation of New Jersey to learn more about horseshoe crabs and help rescue stranded horseshoe crabs. This event is great for all ages.  Be sure to wear shoes that can get wet (knee boots or water shoes recommended)\, and be prepared for the conditions\, including insect repellent and flashlight/headlamp. \nDetails: Sunday\, May 31\, 4:00am to 5:30am (yes\, this is AM!) \nRSVP with the number in your group to Larissa Smith: larissa.smith@conservewildlifenj.org \nMeet at the north end of Pierces Point Road\, Cape May Court House\, NJ.
URL:https://returnthefavornj.org/event/public-walk-pierces-point-beach-3-copy-copy-2/
LOCATION:Pierces Point Road\, 199-117 Beach Ave\, Cape May Court House\, 08210\, United States
END:VEVENT
BEGIN:VEVENT
DTSTART;TZID=America/New_York:20260602T143000
DTEND;TZID=America/New_York:20260602T160000
DTSTAMP:20260423T092225
CREATED:20260408T184352Z
LAST-MODIFIED:20260408T203010Z
UID:3489-1780410600-1780416000@returnthefavornj.org
SUMMARY:RTF Public Walk - East Point Lighthouse
DESCRIPTION:Join us for a walk organized by CU Maurice River to learn more about horseshoe crabs and help rescue stranded horseshoe crabs. This event is great for all ages.  Be sure to wear shoes that can get wet and bring bug and sun protection. \nDetails: Tuesday\, June 2 from 2:30 pm to 4:00 pm \nRegister at this link: https://lp.constantcontactpages.com/ev/reg/v439ke2 \nPark in the lot to the left of East Point Lighthouse in Heislerville\, NJ
URL:https://returnthefavornj.org/event/public-walk-east-point-lighthouse-6-copy-copy/
LOCATION:East Point Lighthouse\, 10 Lighthouse Rd\, Heislerville\, NJ\, 08324
END:VEVENT
BEGIN:VEVENT
DTSTART;TZID=America/New_York:20260606T160000
DTEND;TZID=America/New_York:20260606T173000
DTSTAMP:20260423T092225
CREATED:20260408T182202Z
LAST-MODIFIED:20260408T182419Z
UID:3476-1780761600-1780767000@returnthefavornj.org
SUMMARY:RTF Public Walk - Cape May Harbor
DESCRIPTION:Join us for a reTURN the Favor walk organized by New Jersey Audubon to learn more about horseshoe crabs and help rescue stranded horseshoe crabs. This event is great for all ages.  Be sure to wear shoes that can get wet\, and be prepared for the conditions\, including insect repellent and sunscreen. \nDetails: Saturday\, June 6 from 4:00 pm to 5:30 pm \nPre-register for this event here: reTURN the Favor Public Walk: Cape May Harbor | New Jersey Audubon \nMeet at the Nature Center of Cape May located at 1600 Delaware Ave in Cape May NJ. \n  \n 
URL:https://returnthefavornj.org/event/public-walk-cape-may-harbor-2-copy-copy/
END:VEVENT
BEGIN:VEVENT
DTSTART;TZID=America/New_York:20260606T173000
DTEND;TZID=America/New_York:20260606T190000
DTSTAMP:20260423T092225
CREATED:20260408T184545Z
LAST-MODIFIED:20260408T202942Z
UID:3491-1780767000-1780772400@returnthefavornj.org
SUMMARY:RTF Public Walk - East Point Lighthouse
DESCRIPTION:Join us for a walk organized by CU Maurice River to learn more about horseshoe crabs and help rescue stranded horseshoe crabs. This event is great for all ages.  Be sure to wear shoes that can get wet and bring bug and sun protection. \nDetails: Saturday\, June 6 from 5:30 pm to 7:00 pm \nRegister at this link: https://lp.constantcontactpages.com/ev/reg/9fpd452 \nPark in the lot to the left of East Point Lighthouse in Heislerville\, NJ
URL:https://returnthefavornj.org/event/public-walk-east-point-lighthouse-6-copy-copy-copy/
LOCATION:East Point Lighthouse\, 10 Lighthouse Rd\, Heislerville\, NJ\, 08324
END:VEVENT
BEGIN:VEVENT
DTSTART;TZID=America/New_York:20260608T180000
DTEND;TZID=America/New_York:20260608T200000
DTSTAMP:20260423T092225
CREATED:20260408T170156Z
LAST-MODIFIED:20260408T170358Z
UID:3468-1780941600-1780948800@returnthefavornj.org
SUMMARY:RTF Public Walk - Reeds Beach North
DESCRIPTION:Join us for a reTURN the Favor walk organized by The Wetlands Institute to learn more about horseshoe crabs and help rescue stranded horseshoe crabs. This event is great for all ages.  Be sure to wear shoes that can get wet\, and be prepared for the conditions\, including insect repellent\, sun protection or headlamp. \nDetails: Monday\, June 8 from 6:00 PM to 8:00 PM    Contact: Meghan Kolk\, mkolk@wetlandsinstitute.org \nRegister at this link: RTF Public Walk Registration \nMeet at the north end of North Beach Drive\, Cape May Court House\, NJ (Reeds Beach Jetty) \n  \n  \n 
URL:https://returnthefavornj.org/event/reeds-beach-north-public-walk-7-copy-copy/
LOCATION:Reeds Beach North\, 300 N Beach Dr\, Cape May Court House\, NJ\, 08210\, United States
END:VEVENT
BEGIN:VEVENT
DTSTART;TZID=America/New_York:20260609T073000
DTEND;TZID=America/New_York:20260609T090000
DTSTAMP:20260423T092225
CREATED:20260408T184726Z
LAST-MODIFIED:20260408T202859Z
UID:3493-1780990200-1780995600@returnthefavornj.org
SUMMARY:RTF Public Walk - East Point Lighthouse
DESCRIPTION:Join us for a walk organized by CU Maurice River to learn more about horseshoe crabs and help rescue stranded horseshoe crabs. This event is great for all ages.  Be sure to wear shoes that can get wet and bring bug and sun protection. \nDetails: Tuesday\, June 9 from 7:30 am to 9:00 am \nRegister at this link: https://lp.constantcontactpages.com/ev/reg/d2fbfjt \nPark in the lot to the left of East Point Lighthouse in Heislerville\, NJ
URL:https://returnthefavornj.org/event/public-walk-east-point-lighthouse-6-copy-copy-copy-copy/
LOCATION:East Point Lighthouse\, 10 Lighthouse Rd\, Heislerville\, NJ\, 08324
END:VEVENT
BEGIN:VEVENT
DTSTART;TZID=America/New_York:20260616T143000
DTEND;TZID=America/New_York:20260616T160000
DTSTAMP:20260423T092225
CREATED:20260408T202031Z
LAST-MODIFIED:20260408T202334Z
UID:3497-1781620200-1781625600@returnthefavornj.org
SUMMARY:RTF Public Walk - Sunray/Norbury's Landing
DESCRIPTION:Join us for a reTURN the Favor walk organized by New Jersey Audubon to learn more about horseshoe crabs and help rescue stranded horseshoe crabs. This event is great for all ages.  Be sure to wear shoes that can get wet\, and be prepared for the conditions\, including insect repellent and sunscreen. \nDetails: Tuesday\, June 16 from 2:30 PM to 4:00 PM \nPre-register for this event here: reTURN the Favor Public Walk: Norbury’s Landing | New Jersey Audubon \nMeet at Norbury’s Landing at the end of Millman Boulevard in Del Haven\, NJ. \n 
URL:https://returnthefavornj.org/event/public-walk-sunray-copy/
LOCATION:Sunray Beach/Norbury’s Landing\, End of Millman Blvd\, Del Haven\, NJ\, United States
END:VEVENT
BEGIN:VEVENT
DTSTART;TZID=America/New_York:20260620T083000
DTEND;TZID=America/New_York:20260620T100000
DTSTAMP:20260423T092225
CREATED:20260408T202407Z
LAST-MODIFIED:20260408T202656Z
UID:3499-1781944200-1781949600@returnthefavornj.org
SUMMARY:RTF Public Walk - Highs Beach
DESCRIPTION:Join us for a reTURN the Favor walk organized by New Jersey Audubon to learn more about horseshoe crabs and help rescue stranded horseshoe crabs. This event is great for all ages.  Be sure to wear shoes that can get wet\, and be prepared for the conditions\, including insect repellent and sunscreen. \nDetails: Saturday June 20 from 8:30 AM to 10:00 AM \nPre-register for this free event through the link: reTURN the Favor Public Walk: Highs Beach | New Jersey Audubon \nMeet at Highs Beach located at the end of Highs Beach Road in Middle Township\, NJ. \n  \n 
URL:https://returnthefavornj.org/event/public-walk-villas-beach-copy-copy-copy-copy-copy-copy-copy-copy-copy-copy/
END:VEVENT
BEGIN:VEVENT
DTSTART;TZID=America/New_York:20260622T183000
DTEND;TZID=America/New_York:20260622T203000
DTSTAMP:20260423T092225
CREATED:20260408T170408Z
LAST-MODIFIED:20260408T170510Z
UID:3470-1782153000-1782160200@returnthefavornj.org
SUMMARY:RTF Public Walk - Reeds Beach North
DESCRIPTION:Join us for a reTURN the Favor walk organized by The Wetlands Institute to learn more about horseshoe crabs and help rescue stranded horseshoe crabs. This event is great for all ages.  Be sure to wear shoes that can get wet\, and be prepared for the conditions\, including insect repellent\, sun protection or headlamp. \nDetails: Monday\, June 22 from 6:30 PM to 8:30 PM    Contact: Meghan Kolk\, mkolk@wetlandsinstitute.org \nRegister at this link: RTF Public Walk Registration \nMeet at the north end of North Beach Drive\, Cape May Court House\, NJ (Reeds Beach Jetty) \n  \n  \n 
URL:https://returnthefavornj.org/event/reeds-beach-north-public-walk-7-copy-copy-copy/
LOCATION:Reeds Beach North\, 300 N Beach Dr\, Cape May Court House\, NJ\, 08210\, United States
END:VEVENT
END:VCALENDAR